BEGIN:VCALENDAR
VERSION:2.0
PRODID:-//Nature Park Chapter - ECPv6.15.20//NONSGML v1.0//EN
CALSCALE:GREGORIAN
METHOD:PUBLISH
X-WR-CALNAME:Nature Park Chapter
X-ORIGINAL-URL:https://natureparkchapter.de
X-WR-CALDESC:Veranstaltungen für Nature Park Chapter
REFRESH-INTERVAL;VALUE=DURATION:PT1H
X-Robots-Tag:noindex
X-PUBLISHED-TTL:PT1H
BEGIN:VTIMEZONE
TZID:Europe/Berlin
BEGIN:DAYLIGHT
TZOFFSETFROM:+0100
TZOFFSETTO:+0200
TZNAME:CEST
DTSTART:20240331T010000
END:DAYLIGHT
BEGIN:STANDARD
TZOFFSETFROM:+0200
TZOFFSETTO:+0100
TZNAME:CET
DTSTART:20241027T010000
END:STANDARD
BEGIN:DAYLIGHT
TZOFFSETFROM:+0100
TZOFFSETTO:+0200
TZNAME:CEST
DTSTART:20250330T010000
END:DAYLIGHT
BEGIN:STANDARD
TZOFFSETFROM:+0200
TZOFFSETTO:+0100
TZNAME:CET
DTSTART:20251026T010000
END:STANDARD
BEGIN:DAYLIGHT
TZOFFSETFROM:+0100
TZOFFSETTO:+0200
TZNAME:CEST
DTSTART:20260329T010000
END:DAYLIGHT
BEGIN:STANDARD
TZOFFSETFROM:+0200
TZOFFSETTO:+0100
TZNAME:CET
DTSTART:20261025T010000
END:STANDARD
END:VTIMEZONE
BEGIN:VEVENT
DTSTART;TZID=Europe/Berlin:20251206T190000
DTEND;TZID=Europe/Berlin:20251206T235900
DTSTAMP:20260420T085925
CREATED:20250507T125707Z
LAST-MODIFIED:20250821T070705Z
UID:10000384-1765047600-1765065540@natureparkchapter.de
SUMMARY:10. NPC Winter Party
DESCRIPTION:Bitte auf jeden Fall warm anziehen! Wird ne heisse Party!Wir laden zur ultimativen 10. Advent & Nikolaus Party und sorgen für Speisen\, Getränke und coole Mukke. \nWer möchte kommt schon am 05.12.2025\, übernachtet in unserem schönen Städtchen und unterstützt mit uns unsere lokale Gastronomie und Beherbergungsbetriebe! Freitagabend SPECIAL EVENT beim Schramberger Weihnachtsmarkt! Samstag Besuch des Schramberger Weihnachtsmarktes möglich. \n7. NPC Santa Claus Ride um 19 Uhr\, wenns keine Katzen hagelt\, was in Schramberg ja durchaus möglich ist!Die !geladenen! Gäste bringen die Stimmung mit. Wer mit der Harley anreist kann sich auf eine Überraschung freuen. Und wer im Nikolaus Kostüm auftaucht darf ab 00:00 Uhr ein Präsent empfangen. \nKids geben natürlich ihren Stiefel ab!Meldet Euch bitte per Email: info@natureparkchapter.de an. \n🇬🇧 Be sure to dress warmly! It’s going to be a hot party!We’re inviting you to the ultimate 10th Advent & St. Nicholas Party – with food\, drinks\, and cool music. \nIf you’d like\, come already on December 5\, 2025\, stay overnight in our lovely little town\, and join us in supporting our local restaurants and accommodations!Friday evening: SPECIAL EVENT at the Schramberg Christmas Market!Saturday: optional visit of the Schramberg Christmas Market. \nAt 7:00 PM we kick off the 7th NPC Santa Claus Ride – weather permitting (and in Schramberg\, anything is possible!). \nThe invited guests will bring the party spirit. Anyone arriving on a Harley can look forward to a surprise. And if you show up in a Santa costume\, you’ll receive a gift at midnight! 🎅 \nOf course\, kids can put out their boots for goodies! \nPlease register via email: info@natureparkchapter.de  \n🇫🇷 Habillez-vous bien chaudement ! Ça va être une fête chaude !Nous vous invitons à la 10ᵉ Fête de l’Avent & de la Saint-Nicolas – avec repas\, boissons et musique entraînante. \nSi vous le souhaitez\, venez déjà le 5 décembre 2025\, passez la nuit dans notre jolie petite ville et soutenez avec nous la gastronomie et l’hébergement locaux !Vendredi soir : ÉVÉNEMENT SPÉCIAL au Marché de Noël de Schramberg !Samedi : possibilité de visiter le Marché de Noël de Schramberg. \nÀ 19h00\, départ du 7ᵉ Santa Claus Ride du NPC – si la météo le permet (et à Schramberg\, tout est possible !). \nLes invités apporteront l’ambiance. Ceux qui arrivent en Harley auront droit à une surprise. Et si vous venez déguisé en Père Noël\, vous recevrez un cadeau à minuit ! 🎅 \nBien sûr\, les enfants pourront apporter leurs bottes ! \nMerci de vous inscrire par e-mail : info@natureparkchapter.de
URL:https://natureparkchapter.de/event/10-npc-winter-party/
LOCATION:NPC Garagen\, Schiltachstr. 44\, Schramberg\, Baden-Württemberg\, 78713\, Deutschland
CATEGORIES:Events
ATTACH;FMTTYPE=image/jpeg:https://natureparkchapter.de/wp-content/uploads/2018/04/ddaeffb8dce324e750e36ccf0ba5f5db.jpg
END:VEVENT
END:VCALENDAR