BEGIN:VCALENDAR
VERSION:2.0
PRODID:-//Nature Park Chapter - ECPv6.15.20//NONSGML v1.0//EN
CALSCALE:GREGORIAN
METHOD:PUBLISH
X-WR-CALNAME:Nature Park Chapter
X-ORIGINAL-URL:https://natureparkchapter.de
X-WR-CALDESC:Veranstaltungen für Nature Park Chapter
REFRESH-INTERVAL;VALUE=DURATION:PT1H
X-Robots-Tag:noindex
X-PUBLISHED-TTL:PT1H
BEGIN:VTIMEZONE
TZID:Europe/Berlin
BEGIN:DAYLIGHT
TZOFFSETFROM:+0100
TZOFFSETTO:+0200
TZNAME:CEST
DTSTART:20250330T010000
END:DAYLIGHT
BEGIN:STANDARD
TZOFFSETFROM:+0200
TZOFFSETTO:+0100
TZNAME:CET
DTSTART:20251026T010000
END:STANDARD
BEGIN:DAYLIGHT
TZOFFSETFROM:+0100
TZOFFSETTO:+0200
TZNAME:CEST
DTSTART:20260329T010000
END:DAYLIGHT
BEGIN:STANDARD
TZOFFSETFROM:+0200
TZOFFSETTO:+0100
TZNAME:CET
DTSTART:20261025T010000
END:STANDARD
BEGIN:DAYLIGHT
TZOFFSETFROM:+0100
TZOFFSETTO:+0200
TZNAME:CEST
DTSTART:20270328T010000
END:DAYLIGHT
BEGIN:STANDARD
TZOFFSETFROM:+0200
TZOFFSETTO:+0100
TZNAME:CET
DTSTART:20271031T010000
END:STANDARD
END:VTIMEZONE
BEGIN:VEVENT
DTSTART;TZID=Europe/Berlin:20260624T190000
DTEND;TZID=Europe/Berlin:20260624T230000
DTSTAMP:20260424T214957
CREATED:20251006T171230Z
LAST-MODIFIED:20251009T063956Z
UID:10000404-1782327600-1782342000@natureparkchapter.de
SUMMARY:NPC Chapterabend “Bergfest”-Stammtisch
DESCRIPTION:Jeden letzten Mittwoch im Monat findet unser Chapterabend als “Bergfest”-Stammtisch statt\, an dem auch Infos ausgetauscht und Verabredungen getroffen werden. \n\n\n\nIn freundlicher Absicht kommende Gäste sind uns bei Chapterabenden und Ausfahrten nach Anmeldung herzlich willkommen.
URL:https://natureparkchapter.de/event/npc-chapterabend-bergfest-stammtisch-18/2026-06-24/
LOCATION:Bruckbeck\, Hauptstraße 62\, Schramberg\, 78713\, Deutschland
CATEGORIES:Events
ATTACH;FMTTYPE=image/jpeg:https://natureparkchapter.de/wp-content/uploads/2025/10/est2014-klein.jpg
END:VEVENT
BEGIN:VEVENT
DTSTART;TZID=Europe/Berlin:20260625T080000
DTEND;TZID=Europe/Berlin:20260630T170000
DTSTAMP:20260424T214957
CREATED:20250707T103921Z
LAST-MODIFIED:20260303T193233Z
UID:10000390-1782374400-1782838800@natureparkchapter.de
SUMMARY:HH Harley Days
DESCRIPTION:mehr in der WhatsApp Gruppe….\, und ja wir nehmen auch Gäste mit!
URL:https://natureparkchapter.de/event/hh-harley-days/
LOCATION:Hamburg\, Hamburg\, Germany
CATEGORIES:Events
ATTACH;FMTTYPE=image/webp:https://natureparkchapter.de/wp-content/uploads/2025/07/HHD-Logo.webp
END:VEVENT
END:VCALENDAR