BEGIN:VCALENDAR
VERSION:2.0
PRODID:-//Nature Park Chapter - ECPv6.15.20//NONSGML v1.0//EN
CALSCALE:GREGORIAN
METHOD:PUBLISH
X-ORIGINAL-URL:https://natureparkchapter.de
X-WR-CALDESC:Veranstaltungen für Nature Park Chapter
REFRESH-INTERVAL;VALUE=DURATION:PT1H
X-Robots-Tag:noindex
X-PUBLISHED-TTL:PT1H
BEGIN:VTIMEZONE
TZID:Europe/Berlin
BEGIN:DAYLIGHT
TZOFFSETFROM:+0100
TZOFFSETTO:+0200
TZNAME:CEST
DTSTART:20250330T010000
END:DAYLIGHT
BEGIN:STANDARD
TZOFFSETFROM:+0200
TZOFFSETTO:+0100
TZNAME:CET
DTSTART:20251026T010000
END:STANDARD
BEGIN:DAYLIGHT
TZOFFSETFROM:+0100
TZOFFSETTO:+0200
TZNAME:CEST
DTSTART:20260329T010000
END:DAYLIGHT
BEGIN:STANDARD
TZOFFSETFROM:+0200
TZOFFSETTO:+0100
TZNAME:CET
DTSTART:20261025T010000
END:STANDARD
BEGIN:DAYLIGHT
TZOFFSETFROM:+0100
TZOFFSETTO:+0200
TZNAME:CEST
DTSTART:20270328T010000
END:DAYLIGHT
BEGIN:STANDARD
TZOFFSETFROM:+0200
TZOFFSETTO:+0100
TZNAME:CET
DTSTART:20271031T010000
END:STANDARD
END:VTIMEZONE
BEGIN:VEVENT
DTSTART;TZID=Europe/Berlin:20260522T080000
DTEND;TZID=Europe/Berlin:20260525T200000
DTSTAMP:20260424T134639
CREATED:20250615T060435Z
LAST-MODIFIED:20251123T224326Z
UID:10000386-1779436800-1779739200@natureparkchapter.de
SUMMARY:ICEM 2026 CLERMONT-FERRAND
DESCRIPTION:…. mehr folgt bei den Stammtischen und im internen Bereich.
URL:https://natureparkchapter.de/event/icem-2026-clermont-ferrand/
LOCATION:CLERMONT-FERRAND\, CLERMONT-FERRAND\, France
CATEGORIES:Events
ATTACH;FMTTYPE=image/jpeg:https://natureparkchapter.de/wp-content/uploads/2016/11/ICEM.jpg
END:VEVENT
END:VCALENDAR