BEGIN:VCALENDAR
VERSION:2.0
PRODID:-//Nature Park Chapter - ECPv6.15.20//NONSGML v1.0//EN
CALSCALE:GREGORIAN
METHOD:PUBLISH
X-ORIGINAL-URL:https://natureparkchapter.de
X-WR-CALDESC:Veranstaltungen für Nature Park Chapter
REFRESH-INTERVAL;VALUE=DURATION:PT1H
X-Robots-Tag:noindex
X-PUBLISHED-TTL:PT1H
BEGIN:VTIMEZONE
TZID:Europe/Berlin
BEGIN:DAYLIGHT
TZOFFSETFROM:+0100
TZOFFSETTO:+0200
TZNAME:CEST
DTSTART:20250330T010000
END:DAYLIGHT
BEGIN:STANDARD
TZOFFSETFROM:+0200
TZOFFSETTO:+0100
TZNAME:CET
DTSTART:20251026T010000
END:STANDARD
BEGIN:DAYLIGHT
TZOFFSETFROM:+0100
TZOFFSETTO:+0200
TZNAME:CEST
DTSTART:20260329T010000
END:DAYLIGHT
BEGIN:STANDARD
TZOFFSETFROM:+0200
TZOFFSETTO:+0100
TZNAME:CET
DTSTART:20261025T010000
END:STANDARD
BEGIN:DAYLIGHT
TZOFFSETFROM:+0100
TZOFFSETTO:+0200
TZNAME:CEST
DTSTART:20270328T010000
END:DAYLIGHT
BEGIN:STANDARD
TZOFFSETFROM:+0200
TZOFFSETTO:+0100
TZNAME:CET
DTSTART:20271031T010000
END:STANDARD
END:VTIMEZONE
BEGIN:VEVENT
DTSTART;TZID=Europe/Berlin:20260225T190000
DTEND;TZID=Europe/Berlin:20260225T230000
DTSTAMP:20260423T000953
CREATED:20251006T171230Z
LAST-MODIFIED:20251009T063956Z
UID:10000400-1772046000-1772060400@natureparkchapter.de
SUMMARY:NPC Chapterabend “Bergfest”-Stammtisch
DESCRIPTION:Jeden letzten Mittwoch im Monat findet unser Chapterabend als “Bergfest”-Stammtisch statt\, an dem auch Infos ausgetauscht und Verabredungen getroffen werden. \n\n\n\nIn freundlicher Absicht kommende Gäste sind uns bei Chapterabenden und Ausfahrten nach Anmeldung herzlich willkommen.
URL:https://natureparkchapter.de/event/npc-chapterabend-bergfest-stammtisch-18/2026-02-25/
LOCATION:Bruckbeck\, Hauptstraße 62\, Schramberg\, 78713\, Deutschland
CATEGORIES:Events
ATTACH;FMTTYPE=image/jpeg:https://natureparkchapter.de/wp-content/uploads/2025/10/est2014-klein.jpg
END:VEVENT
END:VCALENDAR