BEGIN:VCALENDAR
VERSION:2.0
PRODID:-//Nature Park Chapter - ECPv6.15.20//NONSGML v1.0//EN
CALSCALE:GREGORIAN
METHOD:PUBLISH
X-ORIGINAL-URL:https://natureparkchapter.de
X-WR-CALDESC:Veranstaltungen für Nature Park Chapter
REFRESH-INTERVAL;VALUE=DURATION:PT1H
X-Robots-Tag:noindex
X-PUBLISHED-TTL:PT1H
BEGIN:VTIMEZONE
TZID:Europe/Berlin
BEGIN:DAYLIGHT
TZOFFSETFROM:+0100
TZOFFSETTO:+0200
TZNAME:CEST
DTSTART:20240331T010000
END:DAYLIGHT
BEGIN:STANDARD
TZOFFSETFROM:+0200
TZOFFSETTO:+0100
TZNAME:CET
DTSTART:20241027T010000
END:STANDARD
BEGIN:DAYLIGHT
TZOFFSETFROM:+0100
TZOFFSETTO:+0200
TZNAME:CEST
DTSTART:20250330T010000
END:DAYLIGHT
BEGIN:STANDARD
TZOFFSETFROM:+0200
TZOFFSETTO:+0100
TZNAME:CET
DTSTART:20251026T010000
END:STANDARD
BEGIN:DAYLIGHT
TZOFFSETFROM:+0100
TZOFFSETTO:+0200
TZNAME:CEST
DTSTART:20260329T010000
END:DAYLIGHT
BEGIN:STANDARD
TZOFFSETFROM:+0200
TZOFFSETTO:+0100
TZNAME:CET
DTSTART:20261025T010000
END:STANDARD
BEGIN:DAYLIGHT
TZOFFSETFROM:+0100
TZOFFSETTO:+0200
TZNAME:CEST
DTSTART:20270328T010000
END:DAYLIGHT
BEGIN:STANDARD
TZOFFSETFROM:+0200
TZOFFSETTO:+0100
TZNAME:CET
DTSTART:20271031T010000
END:STANDARD
END:VTIMEZONE
BEGIN:VEVENT
DTSTART;TZID=Europe/Berlin:20260826T190000
DTEND;TZID=Europe/Berlin:20260826T230000
DTSTAMP:20260425T162405
CREATED:20251006T171230Z
LAST-MODIFIED:20251009T063956Z
UID:10000406-1787770800-1787785200@natureparkchapter.de
SUMMARY:NPC Chapterabend “Bergfest”-Stammtisch
DESCRIPTION:Jeden letzten Mittwoch im Monat findet unser Chapterabend als “Bergfest”-Stammtisch statt\, an dem auch Infos ausgetauscht und Verabredungen getroffen werden. \n\n\n\nIn freundlicher Absicht kommende Gäste sind uns bei Chapterabenden und Ausfahrten nach Anmeldung herzlich willkommen.
URL:https://natureparkchapter.de/event/npc-chapterabend-bergfest-stammtisch-18/2026-08-26/
LOCATION:Bruckbeck\, Hauptstraße 62\, Schramberg\, 78713\, Deutschland
CATEGORIES:Events
ATTACH;FMTTYPE=image/jpeg:https://natureparkchapter.de/wp-content/uploads/2025/10/est2014-klein.jpg
END:VEVENT
BEGIN:VEVENT
DTSTART;TZID=Europe/Berlin:20260731T080000
DTEND;TZID=Europe/Berlin:20260803T170000
DTSTAMP:20260425T162405
CREATED:20260301T102439Z
LAST-MODIFIED:20260301T231604Z
UID:10000484-1785484800-1785776400@natureparkchapter.de
SUMMARY:Einladung vom East-Side Chapter und Bündner Chapter
DESCRIPTION:…. wer Lust und Zeit hat….. mehr wie immer bei den Stammtischen\, ORGA Joe
URL:https://natureparkchapter.de/event/einladung-vom-east-side-chapter-und-buendner-chapter/
ATTACH;FMTTYPE=image/jpeg:https://natureparkchapter.de/wp-content/uploads/2025/10/est2014-klein.jpg
END:VEVENT
BEGIN:VEVENT
DTSTART;TZID=Europe/Berlin:20260729T190000
DTEND;TZID=Europe/Berlin:20260729T230000
DTSTAMP:20260425T162405
CREATED:20251006T171230Z
LAST-MODIFIED:20251009T063956Z
UID:10000405-1785351600-1785366000@natureparkchapter.de
SUMMARY:NPC Chapterabend “Bergfest”-Stammtisch
DESCRIPTION:Jeden letzten Mittwoch im Monat findet unser Chapterabend als “Bergfest”-Stammtisch statt\, an dem auch Infos ausgetauscht und Verabredungen getroffen werden. \n\n\n\nIn freundlicher Absicht kommende Gäste sind uns bei Chapterabenden und Ausfahrten nach Anmeldung herzlich willkommen.
URL:https://natureparkchapter.de/event/npc-chapterabend-bergfest-stammtisch-18/2026-07-29/
LOCATION:Bruckbeck\, Hauptstraße 62\, Schramberg\, 78713\, Deutschland
CATEGORIES:Events
ATTACH;FMTTYPE=image/jpeg:https://natureparkchapter.de/wp-content/uploads/2025/10/est2014-klein.jpg
END:VEVENT
BEGIN:VEVENT
DTSTART;TZID=Europe/Berlin:20260725T080000
DTEND;TZID=Europe/Berlin:20260726T170000
DTSTAMP:20260425T162405
CREATED:20260301T102002Z
LAST-MODIFIED:20260301T231008Z
UID:10000483-1784966400-1785085200@natureparkchapter.de
SUMMARY:US Cars und Harley Treffen im Brigachtal
DESCRIPTION:Besuch\, ggf. mit Übernachtung? ORGA Stefan V.
URL:https://natureparkchapter.de/event/us-cars-und-harley-treffen-im-brigachtal/
ATTACH;FMTTYPE=image/jpeg:https://natureparkchapter.de/wp-content/uploads/2026/03/us-cars-harley-treffen-samstag-25-juli-2026-2026-07-25-cars-jpg-29908-e1772360238884.jpg
END:VEVENT
BEGIN:VEVENT
DTSTART;TZID=Europe/Berlin:20260720T080000
DTEND;TZID=Europe/Berlin:20260720T170000
DTSTAMP:20260425T162405
CREATED:20260301T101220Z
LAST-MODIFIED:20260301T101222Z
UID:10000482-1784534400-1784566800@natureparkchapter.de
SUMMARY:Rhein Valley Chapter\, Spanier und wir?
DESCRIPTION:Ein Tag ride out! Wer hat Lust und Zeit?
URL:https://natureparkchapter.de/event/rhein-valley-chapter-spanier-und-wir/
ATTACH;FMTTYPE=image/jpeg:https://natureparkchapter.de/wp-content/uploads/2025/10/est2014-klein.jpg
END:VEVENT
BEGIN:VEVENT
DTSTART;TZID=Europe/Berlin:20260703T090000
DTEND;TZID=Europe/Berlin:20260705T180000
DTSTAMP:20260425T162405
CREATED:20260301T100657Z
LAST-MODIFIED:20260301T231648Z
UID:10000481-1783069200-1783274400@natureparkchapter.de
SUMMARY:Chapter Ausfahrt
DESCRIPTION:Odenwald (Miltenberg) mit Event auf Binnenschiff. ORGA Ralf
URL:https://natureparkchapter.de/event/chapter-ausfahrt-2/
ATTACH;FMTTYPE=image/jpeg:https://natureparkchapter.de/wp-content/uploads/2025/10/est2014-klein.jpg
END:VEVENT
BEGIN:VEVENT
DTSTART;TZID=Europe/Berlin:20260625T080000
DTEND;TZID=Europe/Berlin:20260630T170000
DTSTAMP:20260425T162405
CREATED:20250707T103921Z
LAST-MODIFIED:20260303T193233Z
UID:10000390-1782374400-1782838800@natureparkchapter.de
SUMMARY:HH Harley Days
DESCRIPTION:mehr in der WhatsApp Gruppe….\, und ja wir nehmen auch Gäste mit!
URL:https://natureparkchapter.de/event/hh-harley-days/
LOCATION:Hamburg\, Hamburg\, Germany
CATEGORIES:Events
ATTACH;FMTTYPE=image/webp:https://natureparkchapter.de/wp-content/uploads/2025/07/HHD-Logo.webp
END:VEVENT
BEGIN:VEVENT
DTSTART;TZID=Europe/Berlin:20260624T190000
DTEND;TZID=Europe/Berlin:20260624T230000
DTSTAMP:20260425T162405
CREATED:20251006T171230Z
LAST-MODIFIED:20251009T063956Z
UID:10000404-1782327600-1782342000@natureparkchapter.de
SUMMARY:NPC Chapterabend “Bergfest”-Stammtisch
DESCRIPTION:Jeden letzten Mittwoch im Monat findet unser Chapterabend als “Bergfest”-Stammtisch statt\, an dem auch Infos ausgetauscht und Verabredungen getroffen werden. \n\n\n\nIn freundlicher Absicht kommende Gäste sind uns bei Chapterabenden und Ausfahrten nach Anmeldung herzlich willkommen.
URL:https://natureparkchapter.de/event/npc-chapterabend-bergfest-stammtisch-18/2026-06-24/
LOCATION:Bruckbeck\, Hauptstraße 62\, Schramberg\, 78713\, Deutschland
CATEGORIES:Events
ATTACH;FMTTYPE=image/jpeg:https://natureparkchapter.de/wp-content/uploads/2025/10/est2014-klein.jpg
END:VEVENT
BEGIN:VEVENT
DTSTART;TZID=Europe/Berlin:20260612T080000
DTEND;TZID=Europe/Berlin:20260614T170000
DTSTAMP:20260425T162405
CREATED:20250609T214603Z
LAST-MODIFIED:20260301T231645Z
UID:10000385-1781251200-1781456400@natureparkchapter.de
SUMMARY:30 Jahre Weser-Ems Chapter
DESCRIPTION:Siehe WA-Gruppe….
URL:https://natureparkchapter.de/event/30-jahre-weser-ems-chapter/
LOCATION:Lingen\, Lingen\, 49808\, Germany
CATEGORIES:Events
ATTACH;FMTTYPE=image/jpeg:https://natureparkchapter.de/wp-content/uploads/2025/06/Save-the-date-e1772406933293.jpg
END:VEVENT
BEGIN:VEVENT
DTSTART;TZID=Europe/Berlin:20260527T190000
DTEND;TZID=Europe/Berlin:20260527T230000
DTSTAMP:20260425T162405
CREATED:20251006T171230Z
LAST-MODIFIED:20251009T063956Z
UID:10000403-1779908400-1779922800@natureparkchapter.de
SUMMARY:NPC Chapterabend “Bergfest”-Stammtisch
DESCRIPTION:Jeden letzten Mittwoch im Monat findet unser Chapterabend als “Bergfest”-Stammtisch statt\, an dem auch Infos ausgetauscht und Verabredungen getroffen werden. \n\n\n\nIn freundlicher Absicht kommende Gäste sind uns bei Chapterabenden und Ausfahrten nach Anmeldung herzlich willkommen.
URL:https://natureparkchapter.de/event/npc-chapterabend-bergfest-stammtisch-18/2026-05-27/
LOCATION:Bruckbeck\, Hauptstraße 62\, Schramberg\, 78713\, Deutschland
CATEGORIES:Events
ATTACH;FMTTYPE=image/jpeg:https://natureparkchapter.de/wp-content/uploads/2025/10/est2014-klein.jpg
END:VEVENT
BEGIN:VEVENT
DTSTART;TZID=Europe/Berlin:20260522T080000
DTEND;TZID=Europe/Berlin:20260525T200000
DTSTAMP:20260425T162405
CREATED:20250615T060435Z
LAST-MODIFIED:20251123T224326Z
UID:10000386-1779436800-1779739200@natureparkchapter.de
SUMMARY:ICEM 2026 CLERMONT-FERRAND
DESCRIPTION:…. mehr folgt bei den Stammtischen und im internen Bereich.
URL:https://natureparkchapter.de/event/icem-2026-clermont-ferrand/
LOCATION:CLERMONT-FERRAND\, CLERMONT-FERRAND\, France
CATEGORIES:Events
ATTACH;FMTTYPE=image/jpeg:https://natureparkchapter.de/wp-content/uploads/2016/11/ICEM.jpg
END:VEVENT
BEGIN:VEVENT
DTSTART;TZID=Europe/Berlin:20260503T080000
DTEND;TZID=Europe/Berlin:20260503T170000
DTSTAMP:20260425T162405
CREATED:20260301T100028Z
LAST-MODIFIED:20260302T075113Z
UID:10000480-1777795200-1777827600@natureparkchapter.de
SUMMARY:Love Ride 2026
DESCRIPTION:Benefizveranstaltung mit tollem Programm über den Tag. ORGA Joe
URL:https://natureparkchapter.de/event/love-ride-2026/
LOCATION:Ueberlandstrasse 271\, 8600 Dübendorf\, Schweiz\, Ueberlandstrasse 271\, Dübendorf\, 8600\, Switzerland
CATEGORIES:Events
ATTACH;FMTTYPE=image/png:https://natureparkchapter.de/wp-content/uploads/2026/03/Logo_ein-Herz-1.png
END:VEVENT
BEGIN:VEVENT
DTSTART;TZID=Europe/Berlin:20260429T190000
DTEND;TZID=Europe/Berlin:20260429T230000
DTSTAMP:20260425T162405
CREATED:20251006T171230Z
LAST-MODIFIED:20251009T063956Z
UID:10000402-1777489200-1777503600@natureparkchapter.de
SUMMARY:NPC Chapterabend “Bergfest”-Stammtisch
DESCRIPTION:Jeden letzten Mittwoch im Monat findet unser Chapterabend als “Bergfest”-Stammtisch statt\, an dem auch Infos ausgetauscht und Verabredungen getroffen werden. \n\n\n\nIn freundlicher Absicht kommende Gäste sind uns bei Chapterabenden und Ausfahrten nach Anmeldung herzlich willkommen.
URL:https://natureparkchapter.de/event/npc-chapterabend-bergfest-stammtisch-18/2026-04-29/
LOCATION:Bruckbeck\, Hauptstraße 62\, Schramberg\, 78713\, Deutschland
CATEGORIES:Events
ATTACH;FMTTYPE=image/jpeg:https://natureparkchapter.de/wp-content/uploads/2025/10/est2014-klein.jpg
END:VEVENT
BEGIN:VEVENT
DTSTART;TZID=Europe/Berlin:20260325T190000
DTEND;TZID=Europe/Berlin:20260325T230000
DTSTAMP:20260425T162405
CREATED:20251006T171230Z
LAST-MODIFIED:20251009T063956Z
UID:10000401-1774465200-1774479600@natureparkchapter.de
SUMMARY:NPC Chapterabend “Bergfest”-Stammtisch
DESCRIPTION:Jeden letzten Mittwoch im Monat findet unser Chapterabend als “Bergfest”-Stammtisch statt\, an dem auch Infos ausgetauscht und Verabredungen getroffen werden. \n\n\n\nIn freundlicher Absicht kommende Gäste sind uns bei Chapterabenden und Ausfahrten nach Anmeldung herzlich willkommen.
URL:https://natureparkchapter.de/event/npc-chapterabend-bergfest-stammtisch-18/2026-03-25/
LOCATION:Bruckbeck\, Hauptstraße 62\, Schramberg\, 78713\, Deutschland
CATEGORIES:Events
ATTACH;FMTTYPE=image/jpeg:https://natureparkchapter.de/wp-content/uploads/2025/10/est2014-klein.jpg
END:VEVENT
BEGIN:VEVENT
DTSTART;TZID=Europe/Berlin:20260225T190000
DTEND;TZID=Europe/Berlin:20260225T230000
DTSTAMP:20260425T162405
CREATED:20251006T171230Z
LAST-MODIFIED:20251009T063956Z
UID:10000400-1772046000-1772060400@natureparkchapter.de
SUMMARY:NPC Chapterabend “Bergfest”-Stammtisch
DESCRIPTION:Jeden letzten Mittwoch im Monat findet unser Chapterabend als “Bergfest”-Stammtisch statt\, an dem auch Infos ausgetauscht und Verabredungen getroffen werden. \n\n\n\nIn freundlicher Absicht kommende Gäste sind uns bei Chapterabenden und Ausfahrten nach Anmeldung herzlich willkommen.
URL:https://natureparkchapter.de/event/npc-chapterabend-bergfest-stammtisch-18/2026-02-25/
LOCATION:Bruckbeck\, Hauptstraße 62\, Schramberg\, 78713\, Deutschland
CATEGORIES:Events
ATTACH;FMTTYPE=image/jpeg:https://natureparkchapter.de/wp-content/uploads/2025/10/est2014-klein.jpg
END:VEVENT
BEGIN:VEVENT
DTSTART;TZID=Europe/Berlin:20260128T190000
DTEND;TZID=Europe/Berlin:20260128T230000
DTSTAMP:20260425T162405
CREATED:20251006T171230Z
LAST-MODIFIED:20251009T063956Z
UID:10000399-1769626800-1769641200@natureparkchapter.de
SUMMARY:NPC Chapterabend “Bergfest”-Stammtisch
DESCRIPTION:Jeden letzten Mittwoch im Monat findet unser Chapterabend als “Bergfest”-Stammtisch statt\, an dem auch Infos ausgetauscht und Verabredungen getroffen werden. \n\n\n\nIn freundlicher Absicht kommende Gäste sind uns bei Chapterabenden und Ausfahrten nach Anmeldung herzlich willkommen.
URL:https://natureparkchapter.de/event/npc-chapterabend-bergfest-stammtisch-18/2026-01-28/
LOCATION:Bruckbeck\, Hauptstraße 62\, Schramberg\, 78713\, Deutschland
CATEGORIES:Events
ATTACH;FMTTYPE=image/jpeg:https://natureparkchapter.de/wp-content/uploads/2025/10/est2014-klein.jpg
END:VEVENT
BEGIN:VEVENT
DTSTART;TZID=Europe/Berlin:20260110T183000
DTEND;TZID=Europe/Berlin:20260110T233000
DTSTAMP:20260425T162405
CREATED:20251201T173052Z
LAST-MODIFIED:20251201T173054Z
UID:10000477-1768069800-1768087800@natureparkchapter.de
SUMMARY:Jahresauftakt 2026
DESCRIPTION:… mehr bei den Stammtischen und intern….
URL:https://natureparkchapter.de/event/jahresauftakt-2026/
LOCATION:Waldblick Schenkenzell\, Schulstraße 12\, 77773\, Schenkenzell\, 77773\, Germany
ATTACH;FMTTYPE=image/jpeg:https://natureparkchapter.de/wp-content/uploads/2025/08/cropped-IMG_7929-1-scaled-1.jpg
END:VEVENT
BEGIN:VEVENT
DTSTART;TZID=Europe/Berlin:20251231T190000
DTEND;TZID=Europe/Berlin:20251231T230000
DTSTAMP:20260425T162405
CREATED:20251006T171230Z
LAST-MODIFIED:20251009T063956Z
UID:10000398-1767207600-1767222000@natureparkchapter.de
SUMMARY:NPC Chapterabend “Bergfest”-Stammtisch
DESCRIPTION:Jeden letzten Mittwoch im Monat findet unser Chapterabend als “Bergfest”-Stammtisch statt\, an dem auch Infos ausgetauscht und Verabredungen getroffen werden. \n\n\n\nIn freundlicher Absicht kommende Gäste sind uns bei Chapterabenden und Ausfahrten nach Anmeldung herzlich willkommen.
URL:https://natureparkchapter.de/event/npc-chapterabend-bergfest-stammtisch-18/2025-12-31/
LOCATION:Bruckbeck\, Hauptstraße 62\, Schramberg\, 78713\, Deutschland
CATEGORIES:Events
ATTACH;FMTTYPE=image/jpeg:https://natureparkchapter.de/wp-content/uploads/2025/10/est2014-klein.jpg
END:VEVENT
BEGIN:VEVENT
DTSTART;TZID=Europe/Berlin:20251206T190000
DTEND;TZID=Europe/Berlin:20251206T235900
DTSTAMP:20260425T162405
CREATED:20250507T125707Z
LAST-MODIFIED:20250821T070705Z
UID:10000384-1765047600-1765065540@natureparkchapter.de
SUMMARY:10. NPC Winter Party
DESCRIPTION:Bitte auf jeden Fall warm anziehen! Wird ne heisse Party!Wir laden zur ultimativen 10. Advent & Nikolaus Party und sorgen für Speisen\, Getränke und coole Mukke. \nWer möchte kommt schon am 05.12.2025\, übernachtet in unserem schönen Städtchen und unterstützt mit uns unsere lokale Gastronomie und Beherbergungsbetriebe! Freitagabend SPECIAL EVENT beim Schramberger Weihnachtsmarkt! Samstag Besuch des Schramberger Weihnachtsmarktes möglich. \n7. NPC Santa Claus Ride um 19 Uhr\, wenns keine Katzen hagelt\, was in Schramberg ja durchaus möglich ist!Die !geladenen! Gäste bringen die Stimmung mit. Wer mit der Harley anreist kann sich auf eine Überraschung freuen. Und wer im Nikolaus Kostüm auftaucht darf ab 00:00 Uhr ein Präsent empfangen. \nKids geben natürlich ihren Stiefel ab!Meldet Euch bitte per Email: info@natureparkchapter.de an. \n🇬🇧 Be sure to dress warmly! It’s going to be a hot party!We’re inviting you to the ultimate 10th Advent & St. Nicholas Party – with food\, drinks\, and cool music. \nIf you’d like\, come already on December 5\, 2025\, stay overnight in our lovely little town\, and join us in supporting our local restaurants and accommodations!Friday evening: SPECIAL EVENT at the Schramberg Christmas Market!Saturday: optional visit of the Schramberg Christmas Market. \nAt 7:00 PM we kick off the 7th NPC Santa Claus Ride – weather permitting (and in Schramberg\, anything is possible!). \nThe invited guests will bring the party spirit. Anyone arriving on a Harley can look forward to a surprise. And if you show up in a Santa costume\, you’ll receive a gift at midnight! 🎅 \nOf course\, kids can put out their boots for goodies! \nPlease register via email: info@natureparkchapter.de  \n🇫🇷 Habillez-vous bien chaudement ! Ça va être une fête chaude !Nous vous invitons à la 10ᵉ Fête de l’Avent & de la Saint-Nicolas – avec repas\, boissons et musique entraînante. \nSi vous le souhaitez\, venez déjà le 5 décembre 2025\, passez la nuit dans notre jolie petite ville et soutenez avec nous la gastronomie et l’hébergement locaux !Vendredi soir : ÉVÉNEMENT SPÉCIAL au Marché de Noël de Schramberg !Samedi : possibilité de visiter le Marché de Noël de Schramberg. \nÀ 19h00\, départ du 7ᵉ Santa Claus Ride du NPC – si la météo le permet (et à Schramberg\, tout est possible !). \nLes invités apporteront l’ambiance. Ceux qui arrivent en Harley auront droit à une surprise. Et si vous venez déguisé en Père Noël\, vous recevrez un cadeau à minuit ! 🎅 \nBien sûr\, les enfants pourront apporter leurs bottes ! \nMerci de vous inscrire par e-mail : info@natureparkchapter.de
URL:https://natureparkchapter.de/event/10-npc-winter-party/
LOCATION:NPC Garagen\, Schiltachstr. 44\, Schramberg\, Baden-Württemberg\, 78713\, Deutschland
CATEGORIES:Events
ATTACH;FMTTYPE=image/jpeg:https://natureparkchapter.de/wp-content/uploads/2018/04/ddaeffb8dce324e750e36ccf0ba5f5db.jpg
END:VEVENT
BEGIN:VEVENT
DTSTART;TZID=Europe/Berlin:20251126T190000
DTEND;TZID=Europe/Berlin:20251126T230000
DTSTAMP:20260425T162405
CREATED:20251006T171230Z
LAST-MODIFIED:20251009T063956Z
UID:10000397-1764183600-1764198000@natureparkchapter.de
SUMMARY:NPC Chapterabend “Bergfest”-Stammtisch
DESCRIPTION:Jeden letzten Mittwoch im Monat findet unser Chapterabend als “Bergfest”-Stammtisch statt\, an dem auch Infos ausgetauscht und Verabredungen getroffen werden. \n\n\n\nIn freundlicher Absicht kommende Gäste sind uns bei Chapterabenden und Ausfahrten nach Anmeldung herzlich willkommen.
URL:https://natureparkchapter.de/event/npc-chapterabend-bergfest-stammtisch-18/2025-11-26/
LOCATION:Bruckbeck\, Hauptstraße 62\, Schramberg\, 78713\, Deutschland
CATEGORIES:Events
ATTACH;FMTTYPE=image/jpeg:https://natureparkchapter.de/wp-content/uploads/2025/10/est2014-klein.jpg
END:VEVENT
BEGIN:VEVENT
DTSTART;TZID=Europe/Berlin:20251114T140000
DTEND;TZID=Europe/Berlin:20251116T170000
DTSTAMP:20260425T162405
CREATED:20241110T112602Z
LAST-MODIFIED:20250713T061821Z
UID:10000343-1763128800-1763312400@natureparkchapter.de
SUMMARY:Presidents-Meeting 2025
DESCRIPTION:Wir freuen uns auf Euch… und sind gespannt auf die gemeinsamen Tage
URL:https://natureparkchapter.de/event/presidents-meeting-2025/
LOCATION:Hotel zum Meister Bär\, Coubertinstraße 10\, Marktredwitz\, 95615\, Germany
CATEGORIES:Events
ATTACH;FMTTYPE=image/png:https://natureparkchapter.de/wp-content/uploads/2022/11/UFC23_R_150x150-106w.png
END:VEVENT
BEGIN:VEVENT
DTSTART;TZID=Europe/Berlin:20251022T190000
DTEND;TZID=Europe/Berlin:20251022T230000
DTSTAMP:20260425T162405
CREATED:20251014T074428Z
LAST-MODIFIED:20251014T075214Z
UID:10000445-1761159600-1761174000@natureparkchapter.de
SUMMARY:NPC Chapterabend “Bergfest”-Stammtisch
DESCRIPTION:Jeden letzten Mittwoch im Monat findet unser Chapterabend als “Bergfest”-Stammtisch statt\, an dem auch Infos ausgetauscht und Verabredungen getroffen werden. \n\n\n\nIn freundlicher Absicht kommende Gäste sind uns bei Chapterabenden und Ausfahrten nach Anmeldung herzlich willkommen.
URL:https://natureparkchapter.de/event/npc-chapterabend-bergfest-stammtisch-30/2025-10-22/
LOCATION:Bruckbeck\, Hauptstraße 62\, Schramberg\, 78713\, Deutschland
CATEGORIES:Events
ATTACH;FMTTYPE=image/jpeg:https://natureparkchapter.de/wp-content/uploads/2025/10/est2014-klein.jpg
END:VEVENT
BEGIN:VEVENT
DTSTART;TZID=Europe/Berlin:20250822T080000
DTEND;TZID=Europe/Berlin:20250824T170000
DTSTAMP:20260425T162405
CREATED:20241225T150741Z
LAST-MODIFIED:20241225T151151Z
UID:10000376-1755849600-1756054800@natureparkchapter.de
SUMMARY:"20 Jahre Malmoe Chapter"
DESCRIPTION:Mal schauen wieviel der Einladung folgen. Mehr intern !
URL:https://natureparkchapter.de/event/20-jahre-malmoe-chapter/
LOCATION:Malmoe\, Malmoe\, 21227\, Sweden
CATEGORIES:Events
ATTACH;FMTTYPE=image/jpeg:https://natureparkchapter.de/wp-content/uploads/2024/07/est2014-1.jpg
END:VEVENT
BEGIN:VEVENT
DTSTART;TZID=Europe/Berlin:20250817T080000
DTEND;TZID=Europe/Berlin:20250819T170000
DTSTAMP:20260425T162405
CREATED:20250111T091749Z
LAST-MODIFIED:20250222T080923Z
UID:10000378-1755417600-1755622800@natureparkchapter.de
SUMMARY:WICF besucht uns
DESCRIPTION:Gäste aus Frankreich besuchen uns! ICEM Freunde!Mehr intern und bei den Stammtischen…..
URL:https://natureparkchapter.de/event/wicf-besucht-uns/
LOCATION:NPC Garagen\, Schiltachstr. 44\, Schramberg\, Baden-Württemberg\, 78713\, Deutschland
CATEGORIES:Events
ATTACH;FMTTYPE=image/jpeg:https://natureparkchapter.de/wp-content/uploads/2016/11/ICEM.jpg
END:VEVENT
BEGIN:VEVENT
DTSTART;TZID=Europe/Berlin:20250815T180000
DTEND;TZID=Europe/Berlin:20250817T190000
DTSTAMP:20260425T162405
CREATED:20250815T124724Z
LAST-MODIFIED:20250815T131246Z
UID:10000391-1755280800-1755457200@natureparkchapter.de
SUMMARY:35 Int. Motorradtreffen MC-Hardt
DESCRIPTION:Wir sind auf jeden Fall am 15.08. dabei
URL:https://natureparkchapter.de/event/35-int-motorradtreffen-mc-hardt/
LOCATION:Hugswald Hardt\, Hugswald\, Hardt\, 78739
CATEGORIES:Events
ATTACH;FMTTYPE=image/jpeg:https://natureparkchapter.de/wp-content/uploads/2025/08/2025-Hardt.jpg
END:VEVENT
BEGIN:VEVENT
DTSTART;TZID=Europe/Berlin:20250805T133000
DTEND;TZID=Europe/Berlin:20250809T170000
DTSTAMP:20260425T162405
CREATED:20250113T081319Z
LAST-MODIFIED:20250113T081328Z
UID:10000379-1754400600-1754758800@natureparkchapter.de
SUMMARY:Wir sind Teil der "ROCKER-Gang" bei Mini-Schramberg 2025
DESCRIPTION:Wir fahren die “Mini-Rocker” und supporten!Du hast eine Harley und möchtest dabei sein? Dann sende eine email an director@naturepatkchapter.de
URL:https://natureparkchapter.de/event/wir-sind-teil-der-rocker-gang-bei-mini-schramberg-2025/
ATTACH;FMTTYPE=image/jpeg:https://natureparkchapter.de/wp-content/uploads/2024/02/KidsRide2019.jpg
END:VEVENT
BEGIN:VEVENT
DTSTART;TZID=Europe/Berlin:20250705T090000
DTEND;TZID=Europe/Berlin:20250706T190000
DTSTAMP:20260425T162405
CREATED:20250328T052145Z
LAST-MODIFIED:20250626T195101Z
UID:10000382-1751706000-1751828400@natureparkchapter.de
SUMMARY:Chapter Wochenendausfahrt
DESCRIPTION:Näheres intern oder bei Juri.
URL:https://natureparkchapter.de/event/wochenendausfahrt/
LOCATION:Blaubeuren\, Blaubeuren
ATTACH;FMTTYPE=image/jpeg:https://natureparkchapter.de/wp-content/uploads/2025/03/Wochenendausfahrt.jpg
END:VEVENT
BEGIN:VEVENT
DTSTART;TZID=Europe/Berlin:20250627T080000
DTEND;TZID=Europe/Berlin:20250629T170000
DTSTAMP:20260425T162405
CREATED:20250301T210509Z
LAST-MODIFIED:20250301T210516Z
UID:10000381-1751011200-1751216400@natureparkchapter.de
SUMMARY:Hamburgharleydays 2025
DESCRIPTION:Schon gesehen?In Hamburg sind jetzt auch FREE CHAPTER bei Harley-Davidson willkommen! Super Aktion!  \n\n\n\nUnser direkter Draht:  Martina
URL:https://natureparkchapter.de/event/hamburgharleydays-2025/
LOCATION:Hamburg\, Hamburg\, Germany
ATTACH;FMTTYPE=image/jpeg:https://natureparkchapter.de/wp-content/uploads/2025/03/HHDays25.jpg
END:VEVENT
BEGIN:VEVENT
DTSTART;TZID=Europe/Berlin:20250611T080000
DTEND;TZID=Europe/Berlin:20250616T200000
DTSTAMP:20260425T162405
CREATED:20241110T114232Z
LAST-MODIFIED:20250609T220150Z
UID:10000344-1749628800-1750104000@natureparkchapter.de
SUMMARY:ICEM 2025 Rocamadur
DESCRIPTION:…. mehr folgt bei den Stammtischen und im internen Bereich
URL:https://natureparkchapter.de/event/icem-2025-rocamadur/
LOCATION:1620 Route de Toulouse – 46350 PAYRAC\, Schiltachstraße 44\, Schramberg\, 78713
CATEGORIES:Events
ATTACH;FMTTYPE=image/jpeg:https://natureparkchapter.de/wp-content/uploads/2016/11/ICEM.jpg
END:VEVENT
BEGIN:VEVENT
DTSTART;TZID=Europe/Berlin:20250529T080000
DTEND;TZID=Europe/Berlin:20250601T170000
DTSTAMP:20260425T162405
CREATED:20240623T223310Z
LAST-MODIFIED:20250112T083554Z
UID:10000333-1748505600-1748797200@natureparkchapter.de
SUMMARY:"Der Norden brennt" und wir fahren hin!
DESCRIPTION:Vier Chapter feiern Ende Mai 2025 mit einem großen Jubiläumsevent über mehrere Tage “65 Jahre gemeinsames HARLEY-Fahren“.Und wir sind dabei!
URL:https://natureparkchapter.de/event/der-norden-brennt/
LOCATION:Hotel Good Morning\, Sandkamp 12\, Bad Oldesloe\, 23843\, Deutschland
ATTACH;FMTTYPE=image/jpeg:https://natureparkchapter.de/wp-content/uploads/2024/06/Der-Norden-brennt-Flyer.jpg
END:VEVENT
END:VCALENDAR