BEGIN:VCALENDAR
VERSION:2.0
PRODID:-//Nature Park Chapter - ECPv6.15.20//NONSGML v1.0//EN
CALSCALE:GREGORIAN
METHOD:PUBLISH
X-WR-CALNAME:Nature Park Chapter
X-ORIGINAL-URL:https://natureparkchapter.de
X-WR-CALDESC:Veranstaltungen für Nature Park Chapter
REFRESH-INTERVAL;VALUE=DURATION:PT1H
X-Robots-Tag:noindex
X-PUBLISHED-TTL:PT1H
BEGIN:VTIMEZONE
TZID:Europe/Berlin
BEGIN:DAYLIGHT
TZOFFSETFROM:+0100
TZOFFSETTO:+0200
TZNAME:CEST
DTSTART:20470331T010000
END:DAYLIGHT
BEGIN:STANDARD
TZOFFSETFROM:+0200
TZOFFSETTO:+0100
TZNAME:CET
DTSTART:20471027T010000
END:STANDARD
BEGIN:DAYLIGHT
TZOFFSETFROM:+0100
TZOFFSETTO:+0200
TZNAME:CEST
DTSTART:20480329T010000
END:DAYLIGHT
BEGIN:STANDARD
TZOFFSETFROM:+0200
TZOFFSETTO:+0100
TZNAME:CET
DTSTART:20481025T010000
END:STANDARD
BEGIN:DAYLIGHT
TZOFFSETFROM:+0100
TZOFFSETTO:+0200
TZNAME:CEST
DTSTART:20490328T010000
END:DAYLIGHT
BEGIN:STANDARD
TZOFFSETFROM:+0200
TZOFFSETTO:+0100
TZNAME:CET
DTSTART:20491031T010000
END:STANDARD
END:VTIMEZONE
BEGIN:VEVENT
DTSTART;TZID=Europe/Berlin:20481028T190000
DTEND;TZID=Europe/Berlin:20481028T230000
DTSTAMP:20260423T001114
CREATED:20251014T074428Z
LAST-MODIFIED:20251014T075214Z
UID:10000475-2487524400-2487538800@natureparkchapter.de
SUMMARY:NPC Chapterabend “Bergfest”-Stammtisch
DESCRIPTION:Jeden letzten Mittwoch im Monat findet unser Chapterabend als “Bergfest”-Stammtisch statt\, an dem auch Infos ausgetauscht und Verabredungen getroffen werden. \n\n\n\nIn freundlicher Absicht kommende Gäste sind uns bei Chapterabenden und Ausfahrten nach Anmeldung herzlich willkommen.
URL:https://natureparkchapter.de/event/npc-chapterabend-bergfest-stammtisch-30/2048-10-28/
LOCATION:Bruckbeck\, Hauptstraße 62\, Schramberg\, 78713\, Deutschland
CATEGORIES:Events
ATTACH;FMTTYPE=image/jpeg:https://natureparkchapter.de/wp-content/uploads/2025/10/est2014-klein.jpg
END:VEVENT
END:VCALENDAR